BEGIN:VCALENDAR
VERSION:2.0
METHOD:PUBLISH
PRODID:SimpleCalendar
BEGIN:VEVENT
UID:@simplecalendar-Freiwillige Feuerwehr Hemsbach
CATEGORIES:Zug 4
CLASS:PUBLIC
DTSTAMP:20260421T131117Z
CREATED:20260421T131117Z
SUMMARY:Übung Zug 4 - Zugübung
DESCRIPTION:Übung Zug 4 - Zugübung Feuerwache Hemsbach /
LOCATION:Feuerwache Hemsbach
TRANSP:OPAQUE
DTSTART:20260427T170000Z
DTEND:20260426T230000Z
END:VEVENT
END:VCALENDAR